BEGIN:VCALENDAR
VERSION:2.0
PRODID:-//TITIRI - ECPv6.15.18//NONSGML v1.0//EN
CALSCALE:GREGORIAN
METHOD:PUBLISH
X-WR-CALNAME:TITIRI
X-ORIGINAL-URL:https://titiri.promotion-sante.gp
X-WR-CALDESC:Évènements pour TITIRI
REFRESH-INTERVAL;VALUE=DURATION:PT1H
X-Robots-Tag:noindex
X-PUBLISHED-TTL:PT1H
BEGIN:VTIMEZONE
TZID:America/Guadeloupe
BEGIN:STANDARD
TZOFFSETFROM:-0400
TZOFFSETTO:-0400
TZNAME:AST
DTSTART:20250101T000000
END:STANDARD
END:VTIMEZONE
BEGIN:VEVENT
DTSTART;TZID=America/Guadeloupe:20260429T103000
DTEND;TZID=America/Guadeloupe:20260429T130000
DTSTAMP:20260423T180316
CREATED:20260422T143532Z
LAST-MODIFIED:20260423T203321Z
UID:4273-1777458600-1777467600@titiri.promotion-sante.gp
SUMMARY:Manjé pou santé a-w avec les ainés de Goyave
DESCRIPTION:Animation alimentation locale & chlordécone à Goyave 29 avril 2026 · 10h30Gratuit \nLe programme Titiri et la Maison des ainés de Goyave vous invite à une matinée d’animation autour de l’alimentation locale et de la chlordécone. L’événement « Manjé pou Santé a-w » se déroulera le mercredi 29 avril 2026 à partir de 10h30 à la Maison des Aînés de Goyave. \nAu programme : \n\nIntervention de Sully Gabon\, ingénieur expert en Agriculture : venez échanger sur les enjeux de l’alimentation locale et les bonnes pratiques pour préserver votre santé au quotidien.\n Demande d’analyse de sol et des oeufs : grâce au dispositif JAFA demander l’ analyse de sol\, gratuite\, de votre jardin pour savoir s’il est concerné par la pollution à la chlordécone.\nAnimations et surprises : 3 paniers garnis sont à gagner !\nCollation offerte : profitez d’une collation locale offerte à tous les participants.\n\nInscriptions au 06 90 40 35 72   \nVenez nombreux !
URL:https://titiri.promotion-sante.gp/evenement/manje-pou-sante-a-w-avec-les-aines-de-goyave/
LOCATION:Maison des ainés de Goyave\, Rue Saint-John Perse\, Goyave\, 97128\, Guadeloupe
CATEGORIES:Jafa et Titiri
ATTACH;FMTTYPE=image/png:https://titiri.promotion-sante.gp/wp-content/uploads/2026/04/Manje-pou-sante-aw_29-Avril-2026-A3-copie-e1776867628165.png
ORGANIZER;CN="TITIRI":MAILTO:contact@titiri.promotion-sante.gp
END:VEVENT
END:VCALENDAR